BEGIN:VCALENDAR
VERSION:2.0
PRODID:-//hacksw/handcal//NONSGML v1.0//EN
CALSCALE:GREGORIAN
BEGIN:VEVENT
LOCATION:71 E Main Street\, Patchogue\, NY 11772
DESCRIPTION:
DTSTART:20260622T000000Z
DTEND:20260622T020000Z
SUMMARY:Amy Grant
URL;VALUE=URI:https://www.axs.com/events/1412211/amy-grant-tickets
DTSTAMP:20260420T014741Z
UID:69e585bd86ab9
END:VEVENT
END:VCALENDAR
