BEGIN:VCALENDAR
VERSION:2.0
PRODID:-//hacksw/handcal//NONSGML v1.0//EN
CALSCALE:GREGORIAN
BEGIN:VEVENT
LOCATION:1800 Lakeside Avenue\, Richmond\, VA 23228
DESCRIPTION:
DTSTART:20260617T230000Z
DTEND:20260618T010000Z
SUMMARY:Everclear
URL;VALUE=URI:https://www.axs.com/events/1316466/everclear-tickets
DTSTAMP:20260420T015909Z
UID:69e5886da72bc
END:VEVENT
END:VCALENDAR
