BEGIN:VCALENDAR
VERSION:2.0
PRODID:-//hacksw/handcal//NONSGML v1.0//EN
CALSCALE:GREGORIAN
BEGIN:VEVENT
LOCATION:291 N Keswick Ave\, Glenside\, PA 19038
DESCRIPTION:
DTSTART:20260529T230000Z
DTEND:20260530T010000Z
SUMMARY:Jim Jefferies
URL;VALUE=URI:https://www.axs.com/events/1184253/jim-jefferies-tickets
DTSTAMP:20260420T031019Z
UID:69e5991b6dd78
END:VEVENT
END:VCALENDAR
